BEGIN:VCALENDAR
VERSION:2.0
PRODID:-//ExpressionEngine Easy iCalendar plugin//NONSGML v1.1.1//EN
BEGIN:VEVENT
UID:event
LOCATION:International Affairs Building\, 1512
DTSTAMP:20210221T35200Z
DTSTART;TZID=America/New_York:20080223T200000
DTEND;TZID=America/New_York:
SUMMARY:Language\, Culture\, and Power
DESCRIPTION:Dipesh Chakrabarthy\, Arjun Appadurai\, and Sheldon Pollock\, w
 ill engage in a round table discussion on "Philology\, Theory
 \, History\," as part of the conference on "Language\, Culture\,
  Power: New Directions in South Asian Studies."
END:VEVENT
END:VCALENDAR