BEGIN:VCALENDAR
VERSION:2.0
PRODID:-//ExpressionEngine Easy iCalendar plugin//NONSGML v1.1.1//EN
BEGIN:VEVENT
UID:event
LOCATION:\, The Teatro of the Italian Academy\, 1161 Amsterdam Avenue
DTSTAMP:20210221T35300Z
DTSTART;TZID=America/New_York:20070205T160000
DTEND;TZID=America/New_York:
SUMMARY:Noam Chomsky
DESCRIPTION:Noam Chomsky will speak about linguistics in a lecture title
 d\, "The Mysteries of Nature: How Deeply Hidden?"
END:VEVENT
END:VCALENDAR