BEGIN:VCALENDAR
VERSION:2.0
PRODID:-//ExpressionEngine Easy iCalendar plugin//NONSGML v1.1.1//EN
BEGIN:VEVENT
UID:event
LOCATION:Low Memorial Library\, Faculty Room
DTSTAMP:20210221T35300Z
DTSTART;TZID=America/New_York:20070213T181500
DTEND;TZID=America/New_York:
SUMMARY:Joseph Stiglitz and Prabhat Patnaik\, “An Emergent India: P
 rospects and Problems”
DESCRIPTION:"An Emergent India: Prospects and Problems"\n\nA public conver
 sation between Joseph Stiglitz\, Nobel Laureate economist\, an
 d Prabhat Patnaik\, perhaps India's most distinguished left w
 ing economist.\n\n 
END:VEVENT
END:VCALENDAR