BEGIN:VCALENDAR
VERSION:2.0
PRODID:-//ExpressionEngine Easy iCalendar plugin//NONSGML v1.1.1//EN
BEGIN:VEVENT
UID:event
LOCATION:New York Public Library\, Humanities and Social Sciences Libr
 ary\, South Court Auditorium
DTSTAMP:20210221T35300Z
DTSTART;TZID=America/New_York:20070221T190000
DTEND;TZID=America/New_York:
SUMMARY:Nuruddin Farah\, interviewed by Anthony Appiah
DESCRIPTION:Princeton Professor K. Anthony Appiah interviews African nov
 elist Nuruddin Farah about his new novel\, Knots.
END:VEVENT
END:VCALENDAR