BEGIN:VCALENDAR
VERSION:2.0
PRODID:-//ExpressionEngine Easy iCalendar plugin//NONSGML v1.1.1//EN
BEGIN:VEVENT
UID:event
LOCATION:Low Memorial Library\, The Rotunda
DTSTAMP:20210221T35300Z
DTSTART;TZID=America/New_York:20070307T181500
DTEND;TZID=America/New_York:
SUMMARY:Oliver Sacks\, “Music and Mind”
DESCRIPTION:Long an inspiration for artists working in forms as varied a
 s poetry\, painting\, dance\, cinema\, and fiction\, Oliver Sacks
 \, dubbed by The New York Times as "the poet laureate of medi
 cine\," has written recently\, "We have\, as yet\, scarcely touc
 hed the question of why music\, for better or worse\, has so m
 uch power. It is a question that goes to the heart of being 
 human."\n\n	Professor Sacks will speak about "Music and Mind" 
 in the Faculty Room of Low Library on Wednesday\, March 7th a
 t 6:15pm. Eric Kandel\, Nobel Laureate and University Profess
 or at Columbia University\, will chair.
END:VEVENT
END:VCALENDAR