BEGIN:VCALENDAR
VERSION:2.0
PRODID:-//ExpressionEngine Easy iCalendar plugin//NONSGML v1.1.1//EN
BEGIN:VEVENT
UID:event
LOCATION:The Schapiro Center\, Davis Auditorium
DTSTAMP:20210221T35300Z
DTSTART;TZID=America/New_York:20070322T181500
DTEND;TZID=America/New_York:
SUMMARY:Svetlana Alpers\, “Instances of Distance”
DESCRIPTION:Svetlana Alpers\, Professor Emerita of the History of Art\, Un
 iversity of California\, Berkeley\, is currently Visiting Scho
 lar\, Department of Fine Arts\, at New York University.\n\nHer m
 ost recent publication is The Vexations of Art: Velazquez an
 d Others.\n\nHer lecture will be titled\, "Instances of Distanc
 e."\n\nJonathan Crary\, Meyer Schapiro Professor of Modern Art 
 and Theory\, Columbia University\, will respond.
END:VEVENT
END:VCALENDAR