BEGIN:VCALENDAR
VERSION:2.0
PRODID:-//ExpressionEngine Easy iCalendar plugin//NONSGML v1.1.1//EN
BEGIN:VEVENT
UID:event
LOCATION:The Schapiro Center\, Davis Auditorium
DTSTAMP:20210221T35300Z
DTSTART;TZID=America/New_York:20070328T181500
DTEND;TZID=America/New_York:20070329T000000
SUMMARY:Two Events with Perry Anderson
DESCRIPTION:Perry Anderson\, distinguished Professor of History at UCLA\, 
 editor of New Left Review\, and author of Spectrum: From Righ
 t to Left in the World of Ideas will speak on two consecutiv
 e evenings in Davis Auditorium of the Schapiro Center.
END:VEVENT
END:VCALENDAR