BEGIN:VCALENDAR
VERSION:2.0
PRODID:-//ExpressionEngine Easy iCalendar plugin//NONSGML v1.1.1//EN
BEGIN:VEVENT
UID:event
LOCATION:Low Memorial Library\, Rotunda
DTSTAMP:20210221T35300Z
DTSTART;TZID=America/New_York:20070409T190000
DTEND;TZID=America/New_York:
SUMMARY:Art Spiegelman\, “Comics: Marching into the Canon”
DESCRIPTION:PLEASE NOTE CHANGE OF LOCATION: Due to the cold weather\, thi
 s event will be held indoors\, in the Rotunda of Low Memorial
  Library.\n\nPulitzer prize winning graphic novelist\, Art Spie
 gelman is in residence at the Heyman Center for the Humaniti
 es for the Spring 2007 Semester.\n\nHe will speak about "Comic
 s: Marching into the Canon" on Monday\, April 9 at 7pm.
END:VEVENT
END:VCALENDAR