BEGIN:VCALENDAR
VERSION:2.0
PRODID:-//ExpressionEngine Easy iCalendar plugin//NONSGML v1.1.1//EN
BEGIN:VEVENT
UID:event
LOCATION:Low Memorial Library\, Rotunda
DTSTAMP:20210221T35200Z
DTSTART;TZID=America/New_York:20070412T200000
DTEND;TZID=America/New_York:
SUMMARY:Hermione Lee\, “The Hum and Buzz of Implication: Biography 
 and Edith Wharton”
DESCRIPTION:The 2007 Lionel Trilling Seminar\n\nRespondents: Andrew Delban
 co and Jean Strouse\n\nHermione Lee\, "The Hum and Buzz of Impl
 ication: Biography and Edith Wharton.”
END:VEVENT
END:VCALENDAR