BEGIN:VCALENDAR
VERSION:2.0
PRODID:-//ExpressionEngine Easy iCalendar plugin//NONSGML v1.1.1//EN
BEGIN:VEVENT
UID:event
LOCATION:The Heyman Center\, Second Floor Common Room
DTSTAMP:20210221T32900Z
DTSTART;TZID=America/New_York:20120502T181500
DTEND;TZID=America/New_York:
SUMMARY:Changing Places: From the Reign of the Novel to the Rise of 
 Film Culture in Post-War America
DESCRIPTION:The Spring 2012 Lionel Trilling Seminar will feature Morris 
 Dickstein\, Distinguished Professor of English and Senior Fel
 low at the Center for the Humanities\, CUNY Graduate Center\, 
 and author\, most recently\, of Dancing in the Dark: A Cultura
 l History of the Great Depression (2009).
END:VEVENT
END:VCALENDAR