BEGIN:VCALENDAR
VERSION:2.0
PRODID:-//ExpressionEngine Easy iCalendar plugin//NONSGML v1.1.1//EN
BEGIN:VEVENT
UID:event
LOCATION:\, Philosophy Hall 716
DTSTAMP:20210221T32700Z
DTSTART;TZID=America/New_York:20130426T90000
DTEND;TZID=America/New_York:20130427T000000
SUMMARY:Doxa in Aristotle: A Workshop in Ancient Philosophy
DESCRIPTION:Aristotle often compares and relates doxa to other cognitive
  activities and attitudes. He uses cognates of doxa — such
  as\, famously\, endoxa — in any number of contexts. This su
 ggests that he has a systematic view of doxa\, else there wou
 ld be little point in comparing the various other mental sta
 tes to doxa.
END:VEVENT
END:VCALENDAR