BEGIN:VCALENDAR
VERSION:2.0
PRODID:-//ExpressionEngine Easy iCalendar plugin//NONSGML v1.1.1//EN
BEGIN:VEVENT
UID:event
LOCATION:Low Memorial Library\, Low Rotunda
DTSTAMP:20210221T33300Z
DTSTART;TZID=America/New_York:20130429T180000
DTEND;TZID=America/New_York:
SUMMARY:The Inaugural Global Thought Lecture: “Living Side by Side
 : On Culture and Security”
DESCRIPTION:Does the concept of security assume a distinctive cultural f
 orm in the midst of deafening patriotic calls for protection
  and precaution? This lecture explores the role of culture 
 and the arts in cultivating an ethic and aesthetic of "livin
 g side by side" that contributes to our contemporary underst
 anding of "cosmopolitan right" (Kant). 
END:VEVENT
END:VCALENDAR