BEGIN:VCALENDAR
VERSION:2.0
PRODID:-//ExpressionEngine Easy iCalendar plugin//NONSGML v1.1.1//EN
BEGIN:VEVENT
UID:event
LOCATION:International Affairs Building\, Altschul Auditorium
DTSTAMP:20210221T35100Z
DTSTART;TZID=America/New_York:20070926T190000
DTEND;TZID=America/New_York:
SUMMARY:Edward Said’s On Late Style
DESCRIPTION:Seamus Deane\, Michael Fried\, Marina Warner\, Maynard Solomon\,
  and Michael Wood join a panel discussion of Edward Said's p
 osthumous publication\, On Late Style: Music and Literature A
 gainst the Grain (April\, 2006). This event will be presented
  in collaboration with Pantheon Books.
END:VEVENT
END:VCALENDAR