BEGIN:VCALENDAR
VERSION:2.0
PRODID:-//ExpressionEngine Easy iCalendar plugin//NONSGML v1.1.1//EN
BEGIN:VEVENT
UID:event
LOCATION:Anthology Film Archives
DTSTAMP:20210221T35100Z
DTSTART;TZID=America/New_York:20061008T120000
DTEND;TZID=America/New_York:
SUMMARY:Out of Place: Memories of Edward Said
DESCRIPTION:First Run/Icarus Films is pleased to announce that OUT OF PL
 ACE: MEMORIES OF EDWARD SAID will receive its U.S. theatrica
 l premiere on October 11th at Anthology Film Archives in New
  York\, at 32 Second Avenue.\n\nBorrowing its title from the au
 thor’s 2000 memoir\, OUT OF PLACE traces the life and work 
 of Edward Said (1935-2003)\, the Palestinian-born intellectua
 l who wrote widely on history\, literature\, music\, philosophy
  and politics.\n\nFilmed in Palestine\, Israel\, Lebanon\, Egypt\,
  and the U.S.\, OUT OF PLACE traces Said’s childhood influe
 nces and investigates his intellectual legacy\, especially th
 e importance of his work in literary criticism and postcolon
 ial studies\, his love of music\, his role on the Palestine Na
 tional Council\, his troubled relationship with Yasir Arafat\,
  and his position as the most articulate spokesperson for th
 e Palestinian cause in the United States.\n\nA First Run/Icaru
 s Films Release / Produced by Siglo\, Ltd.\, Tokyo\, Japan Dire
 cted by Makoto Sato / Produced by Yamagami Tetsujiro / Music
  by Daniel Barenboim 138 mins. / Color and B&W / 2005 / Engl
 ish\, Arabic and Hebrew with English Subtitles
END:VEVENT
END:VCALENDAR