BEGIN:VCALENDAR
VERSION:2.0
PRODID:-//ExpressionEngine Easy iCalendar plugin//NONSGML v1.1.1//EN
BEGIN:VEVENT
UID:event
LOCATION:International Affairs Building\, Room 1512
DTSTAMP:20210221T35100Z
DTSTART;TZID=America/New_York:20061002T181500
DTEND;TZID=America/New_York:
SUMMARY:World Literature in a World Globalized and Unequal: Aijaz Ah
 mad with Adrienne Rich
DESCRIPTION:"World Literature: In a World Globalized and Unequal"\n\nAIJAZ
  AHMAD is Professorial Fellow at the Nehru Memorial Museum a
 nd Library in New Delhi\, India\, and Professor of Political S
 cience at York University in Ontario\, Canada.\n\nHe is the aut
 hor of Lineages of the Present: Ideological and Political Ge
 nealogies of Contemporary South Asia\, and is an editor\, with
  Fred Pfeil and Modhumita Roy\, of the collection A Singular 
 Voice: Collected Writings of Michael Sprinker.\n\nAdrienne Ric
 h is the author of nearly twenty volumes of poetry\, includin
 g The School Among the Ruins: Poems 2000-2004\, which won the
  National Book Critics Circle Award.
END:VEVENT
END:VCALENDAR