BEGIN:VCALENDAR
VERSION:2.0
PRODID:-//ExpressionEngine Easy iCalendar plugin//NONSGML v1.1.1//EN
BEGIN:VEVENT
UID:event
LOCATION:The Kraft Center\, Davis Auditorium
DTSTAMP:20210221T35100Z
DTSTART;TZID=America/New_York:20061005T200000
DTEND;TZID=America/New_York:
SUMMARY:BREAKING OPEN: CELEBRATING THE LIFE AND WORK OF MURIEL RUKEY
 SER\, with Adrienne Rich\, Suzanne Gardini
DESCRIPTION:BREAKING OPEN: CELEBRATING THE LIFE AND WORK OF MURIEL RUKEY
 SER\n\n	With Suzanne Gardinier\, Jan Heller Levi\, Adrienne Rich
  & Hugh Seidman At Davis Auditorium\, Schapiro Center\, Columb
 ia University (enter at 116th & Broadway) Admission Free\n\n	R
 eadings and discussion highlight the life and poetry of Muri
 el Rukeyser (1913-1980)\, visionary poet\, political activist\,
  and unparalleled voice in twentieth century American litera
 ture.
END:VEVENT
END:VCALENDAR