BEGIN:VCALENDAR
VERSION:2.0
PRODID:-//ExpressionEngine Easy iCalendar plugin//NONSGML v1.1.1//EN
BEGIN:VEVENT
UID:event
LOCATION:Miller Theatre
DTSTAMP:20210221T35200Z
DTSTART;TZID=America/New_York:20060207T200000
DTEND;TZID=America/New_York:
SUMMARY:Patti Smith - An Evening of Poetry and Acoustic Song
DESCRIPTION:Patti Smith\, world-renowned musician\, poet\, and punk icon\, w
 ill read from her new book of poetry\, Auguries of Innocence\,
  as well as perform some of her own music with guitarist Len
 ny Kaye.
END:VEVENT
END:VCALENDAR