BEGIN:VCALENDAR
VERSION:2.0
PRODID:-//ExpressionEngine Easy iCalendar plugin//NONSGML v1.1.1//EN
BEGIN:VEVENT
UID:event
LOCATION:The Heyman Center\, Common Room
DTSTAMP:20210221T35200Z
DTSTART;TZID=America/New_York:20060215T181500
DTEND;TZID=America/New_York:
SUMMARY:Distinguished Visiting Fellow: Christopher Ricks
DESCRIPTION:Distinguished Visiting Fellow In Residence: Christopher Rick
 s\, Oxford Professor of Poetry. Ricks will be speaking on "Tr
 ue Friendship: Geoffrey Hill and T.S. Eliot".
END:VEVENT
END:VCALENDAR