BEGIN:VCALENDAR
VERSION:2.0
PRODID:-//ExpressionEngine Easy iCalendar plugin//NONSGML v1.1.1//EN
BEGIN:VEVENT
UID:event
LOCATION:Low Memorial Library\, Rotunda
DTSTAMP:20210221T35200Z
DTSTART;TZID=America/New_York:20060223T180000
DTEND;TZID=America/New_York:
SUMMARY:Gordon Wood
DESCRIPTION:Gordon Wood\, Alva O. Way University Professor and Professor 
 of History at Brown University\, will address the question\, "
 Does History Teach Any Lessons?" Harry Harootunian\, NYU\, and
  Robert Ferguson\, Columbia University\, will respond\, and the
 n the floor will be opened for questions. 
END:VEVENT
END:VCALENDAR