BEGIN:VCALENDAR
VERSION:2.0
PRODID:-//ExpressionEngine Easy iCalendar plugin//NONSGML v1.1.1//EN
BEGIN:VEVENT
UID:event
LOCATION:International Affairs Building\, The Kelloge Center\, Room 150
 1
DTSTAMP:20210221T35100Z
DTSTART;TZID=America/New_York:20061108T180000
DTEND;TZID=America/New_York:
SUMMARY:Orlando Patterson\, “The Perils of Freedom in America”
DESCRIPTION:The Perils of Freedom in America"\n\nRespondents: Eric Foner a
 nd Saidiya Hartman\n\nPlease note that seating\, which is limit
 ed\, will be on a first come first served basis.\n\nORLANDO PAT
 TERSON\, John Cowles Professor of Sociology at Harvard Univer
 sity\, received his Ph.D. in Sociology from the London School
  of Economics (1965). He began teaching at Harvard in 1969. 
 His work has focused on the sociology of slavery and of free
 dom and on the problems of ethnicity and multiculturalism. A
 mong his many books are: The Sociology of Slavery: Jamaica\, 
 1655-1838 (1967)\, Ethnic Chauvinism: The Reactionary Impulse
  (1977)\, Slavery and Social Death: A Comparative Study (1982
 )\, Freedom: Freedom in the Making of Western Culture (1991)\,
  The Ordeal of Integration: Progress and Resentment in Ameri
 ca's "Racial" Crisis (1997) and Rituals of Blood: The Conseq
 uences of Slavery in Two American Centuries (1998). He is al
 so the author of three novels and numerous short stories. Hi
 s many honors include The Sorokin Prize from the American So
 ciological Association\, the Ralph Bunche Award of the Americ
 an Political Science Association\, and the National Book Awar
 d. He served as Special Advisor for Social Policy and Develo
 pment to the Jamaican Prime Minister Michael Manley (1972-19
 80) and is a Fellow of the American Academy of Arts and Scie
 nces.
END:VEVENT
END:VCALENDAR