BEGIN:VCALENDAR
VERSION:2.0
PRODID:-//ExpressionEngine Easy iCalendar plugin//NONSGML v1.1.1//EN
BEGIN:VEVENT
UID:event
LOCATION:The Schapiro Center\, Davis Auditorium
DTSTAMP:20210221T35200Z
DTSTART;TZID=America/New_York:20060322T190000
DTEND;TZID=America/New_York:
SUMMARY:Beauty and Morals: Some Literary Perspectives
DESCRIPTION:In Collaboration with Poets House\, a Symposium on Beauty. No
 ted poets\, philosophers\, novelists and literary critics will
  discuss beauty and morals. Speakers will include Elaine Sca
 rry\, Shirley Hazzard\, John Hollander\, Alexander Nehamas\, and
  Marie Ponsot.
END:VEVENT
END:VCALENDAR