BEGIN:VCALENDAR
VERSION:2.0
PRODID:-//ExpressionEngine Easy iCalendar plugin//NONSGML v1.1.1//EN
BEGIN:VEVENT
UID:event
LOCATION:International Affairs Building\, Altschul Auditorium
DTSTAMP:20210221T35100Z
DTSTART;TZID=America/New_York:20061114T193000
DTEND;TZID=America/New_York:20061115T000000
SUMMARY:Catharine MacKinnon: “Women’s Status\, Men’s States” 
 and “Genocide’s Sexuality”
DESCRIPTION:On Tuesday\, MacKinnon will speak on "Women's Status\, Men's S
 tates"\, and on Wednesday she will give a seminar titled "Gen
 ocide's Sexuality."
END:VEVENT
END:VCALENDAR