BEGIN:VCALENDAR
VERSION:2.0
PRODID:-//ExpressionEngine Easy iCalendar plugin//NONSGML v1.1.1//EN
BEGIN:VEVENT
UID:event
LOCATION:President's Room\, Faculty House
DTSTAMP:20210221T35200Z
DTSTART;TZID=America/New_York:20060323T181500
DTEND;TZID=America/New_York:
SUMMARY:Stanley Cavell and John McDowell
DESCRIPTION:Stanley Cavell will speak about "Thinking About and Eating A
 nimals: Reflections on Coetzee's The Lives of Animals." John
  McDowell will respond.
END:VEVENT
END:VCALENDAR