BEGIN:VCALENDAR
VERSION:2.0
PRODID:-//ExpressionEngine Easy iCalendar plugin//NONSGML v1.1.1//EN
BEGIN:VEVENT
UID:event
LOCATION:President's Room\, Faculty House
DTSTAMP:20210221T35100Z
DTSTART;TZID=America/New_York:20060330T180000
DTEND;TZID=America/New_York:
SUMMARY:Edward W. Said Memorial Lecture: Frank Kermode
DESCRIPTION:Frank Kermode will speak about "Living On the Hyphen: Yeats\,
  Anglo-Irish Poet." 
END:VEVENT
END:VCALENDAR