BEGIN:VCALENDAR
VERSION:2.0
PRODID:-//ExpressionEngine Easy iCalendar plugin//NONSGML v1.1.1//EN
BEGIN:VEVENT
UID:event
LOCATION:International Affairs Building\, Room 1512
DTSTAMP:20210221T35100Z
DTSTART;TZID=America/New_York:20060902T181500
DTEND;TZID=America/New_York:
SUMMARY:Aijaz Ahmad with Adrienne Rich
DESCRIPTION:"World Literature: In a World Globalized and Unequal"\n\nAIJAZ
  AHMAD is Professorial Fellow at the Nehru Memorial Museum a
 nd Library in New Delhi\, India\, and Professor of Political S
 cience at York University in Ontario\, Canada.\n\nHe is the aut
 hor of Lineages of the Present: Ideological and Political Ge
 nealogies of Contemporary South Asia\, and is an editor\, with
  Fred Pfeil and Modhumita Roy\, of the collection A Singular 
 Voice: Collected Writings of Michael Sprinker.
END:VEVENT
END:VCALENDAR