BEGIN:VCALENDAR
VERSION:2.0
PRODID:-//ExpressionEngine Easy iCalendar plugin//NONSGML v1.1.1//EN
BEGIN:VEVENT
UID:event
LOCATION:The Heyman Center\, Second Floor Common Room
DTSTAMP:20210221T35100Z
DTSTART;TZID=America/New_York:20061114T181500
DTEND;TZID=America/New_York:
SUMMARY:Catharine MacKinnon\, a seminar on “Genocide’s Sexuality
 
DESCRIPTION:A seminar on "Genocide's Sexuality"\n\nCatharine A. MacKinnon 
 is a lawyer\, teacher\, writer\, activist\, and expert on sex eq
 uality. She has a B.A. from Smith College (1968)\, a J.D. fro
 m Yale Law School (1977)\, and a Ph.D. in political science f
 rom Yale University Graduate School (1987). She has been Pro
 fessor of Law at the University of Michigan Law School since
  1990\, and Visiting Professor of Law at the University of Ch
 icago Law School since Fall 1997. She has taught at Yale\, ha
 rvard\, Stanford\, Minnesota\, UCLA\, University of Chicago\, Osg
 oode Hall (Toronto)\, and the University of Basel (Switzerlan
 d).
END:VEVENT
END:VCALENDAR