BEGIN:VCALENDAR
VERSION:2.0
PRODID:-//ExpressionEngine Easy iCalendar plugin//NONSGML v1.1.1//EN
BEGIN:VEVENT
UID:event
LOCATION:The Schapiro Center\, Davis Auditorium
DTSTAMP:20210221T35200Z
DTSTART;TZID=America/New_York:20060403T180000
DTEND;TZID=America/New_York:
SUMMARY:The True Costs of the Iraq War
DESCRIPTION:Joseph E. Stiglitz\, a Nobel laureate in economics\, is Profes
 sor of Economics at Columbia University and was Chairman of 
 the Council of Economic Advisers to President Clinton and Ch
 ief Economist and Senior Vice President at the World Bank.\n\n
 	Professor Stiglitz will present and discuss his recent atte
 ntion-gathering article\, "The True Costs of the Iraq War\," w
 hich he co-authored with Linda Bilmes of the Kennedy School 
 of Government\, Harvard University.
END:VEVENT
END:VCALENDAR