BEGIN:VCALENDAR
VERSION:2.0
PRODID:-//ExpressionEngine Easy iCalendar plugin//NONSGML v1.1.1//EN
BEGIN:VEVENT
UID:event
LOCATION:Low Memorial Library\, Rotunda
DTSTAMP:20210221T35200Z
DTSTART;TZID=America/New_York:20060414T140000
DTEND;TZID=America/New_York:20060414T170000
SUMMARY:Reporting War
DESCRIPTION:The Heyman Center for the Humanities brings together four wo
 rld-renowned journalists to share and discuss their experien
 ces reporting war. Featuring Seymour Hersh\, Robert Fisk\, Joh
 n Pilger\, and Charles Glass.
END:VEVENT
END:VCALENDAR