BEGIN:VCALENDAR
VERSION:2.0
PRODID:-//ExpressionEngine Easy iCalendar plugin//NONSGML v1.1.1//EN
BEGIN:VEVENT
UID:event
LOCATION:Low Memorial Library\, The Rotunda
DTSTAMP:20210221T35100Z
DTSTART;TZID=America/New_York:20061129T181500
DTEND;TZID=America/New_York:
SUMMARY:Orhan Pamuk in conversation with Lee Bollinger
DESCRIPTION:Nobel Laureate Orhan Pamuk and Columbia University President
  Lee Bollinger in conversation.
END:VEVENT
END:VCALENDAR