BEGIN:VCALENDAR
VERSION:2.0
PRODID:-//ExpressionEngine Easy iCalendar plugin//NONSGML v1.1.1//EN
BEGIN:VEVENT
UID:event
LOCATION:Jerome Greene Hall (Law School)\, Room 104
DTSTAMP:20210221T35200Z
DTSTART;TZID=America/New_York:20060427T190000
DTEND;TZID=America/New_York:
SUMMARY:Steven Pinker\, “The Blank Slate: The Modern Denial of Huma
 n Nature”
DESCRIPTION:Steven Pinker is the Johnstone Family Professor in the Depar
 tment of Psychology at Harvard University. Until 2003\, he ta
 ught in the Department of Brain and Cognitive Sciences at MI
 T. He conducts research on language and cognition\, writes fo
 r publications such as the New York Times\, Time\, and Slate\, 
 and is the author of six books\, including The Language Insti
 nct\, How the Mind Works\, Words and Rules\, and The Blank Slat
 e.
END:VEVENT
END:VCALENDAR