BEGIN:VCALENDAR
VERSION:2.0
PRODID:-//ExpressionEngine Easy iCalendar plugin//NONSGML v1.1.1//EN
BEGIN:VEVENT
UID:event
LOCATION:Roone Arledge Cinema\, Lerner Hall
DTSTAMP:20210221T35100Z
DTSTART;TZID=America/New_York:20050923T181500
DTEND;TZID=America/New_York:
SUMMARY:Out of Place: Memories of Edward Said
DESCRIPTION:The Heyman Center for Humanities Columbia University present
 s a documentary film by SATO Makoto OUT OF PLACE: MEMORIES O
 F EDWARD SAID A discussion with the filmmaker will follow th
 e screening. No tickets or reservations necessary.
END:VEVENT
END:VCALENDAR