BEGIN:VCALENDAR
VERSION:2.0
PRODID:-//ExpressionEngine Easy iCalendar plugin//NONSGML v1.1.1//EN
BEGIN:VEVENT
UID:event
LOCATION:The Schapiro Center\, Davis Auditorium
DTSTAMP:20210221T35100Z
DTSTART;TZID=America/New_York:20050125T200000
DTEND;TZID=America/New_York:
SUMMARY:Daniel Barenboim on “Wagner\, Israel\, and Palestine”
DESCRIPTION:In the talk “Wagner\, Israel\, and Palestine\,” Barenboim a
 rgues that the Zionist impulse that leads Israel to defend i
 tself against cultural as well as military foes wil not resu
 lt in progress. Rather\, he states that peace will come only 
 when Israel drops its defenses against both.
END:VEVENT
END:VCALENDAR