BEGIN:VCALENDAR
VERSION:2.0
PRODID:-//ExpressionEngine Easy iCalendar plugin//NONSGML v1.1.1//EN
BEGIN:VEVENT
UID:event
LOCATION:Miller Theatre
DTSTAMP:20210221T35100Z
DTSTART;TZID=America/New_York:20050925T200000
DTEND;TZID=America/New_York:
SUMMARY:Adrienne Rich
DESCRIPTION:Adrienne Rich's poetry means so much to so many people that 
 it is hard to convey her influence briefly and simply. She h
 as evoked intense experience\, she has expressed anger\, hurt\,
  and love\, she has awakened in us an awareness of the vast a
 nd unfamiliar psychological recesses that are filled and sha
 ped by familiar forms of social domination\, even as she has 
 taught us the possibilities of resistance and the scope of c
 ourage. On this occasion\, sponsored by the Heyman Centre for
  the Humanities at the Miller Theater\, she will read from so
 me of her new and her old poems\, and talk about them. Ticket
 s\, which are free\, are available at the Miller Theater Box O
 ffice. Two tickets are allowed per person.
END:VEVENT
END:VCALENDAR