BEGIN:VCALENDAR
VERSION:2.0
PRODID:-//ExpressionEngine Easy iCalendar plugin//NONSGML v1.1.1//EN
BEGIN:VEVENT
UID:event
LOCATION:The Schapiro Center\, Davis Auditorium
DTSTAMP:20210221T35100Z
DTSTART;TZID=America/New_York:20050203T180000
DTEND;TZID=America/New_York:
SUMMARY:Thomas Nagel and Amartya Sen\, with Joseph Stiglitz as modera
 tor\, on “Global Justice”
DESCRIPTION:The Columbia University Heyman Center for the Humanities is 
 sponsoring a seminar on global justice featuring Nobel Prize
  winners Joseph Stiglitz and Amartya Sen and prominent moral
  philosopher Thomas Nagel. Moderated by Joseph Stiglitz\, Uni
 versity Professor at Columbia\, the forum will take a fresh l
 ook at globalization and economic disparity among nations. A
 re the economic and political policies of wealthy countries 
 contributing to increased poverty and inequality worldwide? 
 What efforts are being made to level the playing field? How 
 do national goals and sovereignty hinder the quest for fair 
 bilateral relations\, just debt reconstructing and adequate f
 inancial aid to resource-poor nations? What are the moral re
 sponsibilities of governments today?
END:VEVENT
END:VCALENDAR