BEGIN:VCALENDAR
VERSION:2.0
PRODID:-//ExpressionEngine Easy iCalendar plugin//NONSGML v1.1.1//EN
BEGIN:VEVENT
UID:event
LOCATION:The Schapiro Center\, Davis Auditorium
DTSTAMP:20210221T35100Z
DTSTART;TZID=America/New_York:20051005T181500
DTEND;TZID=America/New_York:
SUMMARY:Gananath Obeyesekere
DESCRIPTION:"Cannibal Talk and a Requiem for Captain Cook\," with Michael
  Taussig and Ian Hacking as commentators.
END:VEVENT
END:VCALENDAR