BEGIN:VCALENDAR
VERSION:2.0
PRODID:-//ExpressionEngine Easy iCalendar plugin//NONSGML v1.1.1//EN
BEGIN:VEVENT
UID:event
LOCATION:The Schapiro Center\, Davis Auditorium
DTSTAMP:20210221T35100Z
DTSTART;TZID=America/New_York:20051006T61500
DTEND;TZID=America/New_York:
SUMMARY:Ian Hacking\, College de France
DESCRIPTION:Focault's THE ORDER OF THINGS Forty years later.
END:VEVENT
END:VCALENDAR