BEGIN:VCALENDAR
VERSION:2.0
PRODID:-//ExpressionEngine Easy iCalendar plugin//NONSGML v1.1.1//EN
BEGIN:VEVENT
UID:event
LOCATION:Low Memorial Library\, Faculty Room
DTSTAMP:20210221T35100Z
DTSTART;TZID=America/New_York:20050309T181500
DTEND;TZID=America/New_York:
SUMMARY:Anne Carson and Alexander Nehamas on “The Question of Tran
 slation”
DESCRIPTION:Carson and Nehamas discuss the principled limitations of tra
 nslation\, what it omits and what it distorts. They also look
  at the political effects of these limitations\, examining\, a
 s an example\, the skewed translation of Joan of Arc's testim
 ony and how it was used in her own trial\, ultimately condemn
 ing her to death.
END:VEVENT
END:VCALENDAR