BEGIN:VCALENDAR
VERSION:2.0
PRODID:-//ExpressionEngine Easy iCalendar plugin//NONSGML v1.1.1//EN
BEGIN:VEVENT
UID:event
LOCATION:Miller Theatre
DTSTAMP:20210221T35100Z
DTSTART;TZID=America/New_York:20050321T200000
DTEND;TZID=America/New_York:
SUMMARY:Greil Marcus\, Christopher Ricks\, Sean Wilentz on “Bob Dyla
 n”
DESCRIPTION:Bob Dylan is the most iconic popular musician of our time\, w
 ith an influence that reaches far beyond music. He is a poet
 \, a bard\, a thinker\, a cultural critic\, and most recently a 
 writer of amazing talent and deep honesty. This event intend
 s to celebrate the abiding influence and relevance of Bob Dy
 lan to music\, culture\, and politics.
END:VEVENT
END:VCALENDAR