BEGIN:VCALENDAR
VERSION:2.0
PRODID:-//ExpressionEngine Easy iCalendar plugin//NONSGML v1.1.1//EN
BEGIN:VEVENT
UID:event
LOCATION:Low Memorial Library\, Faculty Room
DTSTAMP:20210221T35100Z
DTSTART;TZID=America/New_York:20050323T180000
DTEND;TZID=America/New_York:
SUMMARY:Hayden White on “The Future of Utopia in History”
DESCRIPTION:With the decline of religion and the waning of metaphysics\, 
 humanists are left with little more than "history" as a fiel
 d for inquiry into "human nature." Many of the debates over 
 the cognitive status of historical discourse turn upon probl
 ems caused by the displacement of religious and metaphysical
  concerns into the field of history. Yet\, in its desire to b
 e objective--in a modestly scientific sense--history has giv
 en up its traditional resources for making sense of both the
  past and the relation between the past and the present. In 
 his lecture\, White addresses the question\, what exists as a 
 solution?
END:VEVENT
END:VCALENDAR