BEGIN:VCALENDAR
VERSION:2.0
PRODID:-//ExpressionEngine Easy iCalendar plugin//NONSGML v1.1.1//EN
BEGIN:VEVENT
UID:event
LOCATION:The Schapiro Center\, Davis Auditorium
DTSTAMP:20210221T35100Z
DTSTART;TZID=America/New_York:20050413T180000
DTEND;TZID=America/New_York:
SUMMARY:David Bromwich\, Richard Howard\, and Rosanna Warren in an eve
 ning of reading and talk of Robert Frost
DESCRIPTION:On April 13\, the Heyman Center for the Humanities sponsors a
 n evening of reading and talk on Robert Frost. Three disting
 uished poets and critics\, David Bromwich\, Rosanna Warren\, an
 d Richard Howard\, read a single book of poems by Robert Fros
 t and then talk briefly about it. They have chosen "Mountain
  Interval"\, one of his most well loved works. This will be t
 he first in a series of such readings\, which\, by focusing on
  a single volume by a major poet\, tries to present the conce
 ptual and thematic and emotional unity of a poetic work. No 
 tickets or reservations are needed.
END:VEVENT
END:VCALENDAR