BEGIN:VCALENDAR
VERSION:2.0
PRODID:-//ExpressionEngine Easy iCalendar plugin//NONSGML v1.1.1//EN
BEGIN:VEVENT
UID:event
LOCATION:Low Memorial Library\, Faculty Room
DTSTAMP:20210221T35100Z
DTSTART;TZID=America/New_York:20051019T181500
DTEND;TZID=America/New_York:
SUMMARY:“Romanticism and Pragmatism”
DESCRIPTION:Richard Rorty and Anthony Appiah will speak about "Romantici
 sm and Pragmatism". No tickets or reservations required.
END:VEVENT
END:VCALENDAR