BEGIN:VCALENDAR
VERSION:2.0
PRODID:-//ExpressionEngine Easy iCalendar plugin//NONSGML v1.1.1//EN
BEGIN:VEVENT
UID:event
LOCATION:The Schapiro Center\, Davis Auditorium
DTSTAMP:20210221T35100Z
DTSTART;TZID=America/New_York:20051025T181500
DTEND;TZID=America/New_York:
SUMMARY:J.G.A. Pocock
DESCRIPTION:"Who Were the Philosophers? Some Patristic and Enlightened V
 iews of Late Antiquity."\n\nCo-presented by the Society of Fel
 lows in the Humanities.
END:VEVENT
END:VCALENDAR