BEGIN:VCALENDAR
VERSION:2.0
PRODID:-//ExpressionEngine Easy iCalendar plugin//NONSGML v1.1.1//EN
BEGIN:VEVENT
UID:event
LOCATION:The Schapiro Center\, Davis Auditorium
DTSTAMP:20210221T35100Z
DTSTART;TZID=America/New_York:20051103T181500
DTEND;TZID=America/New_York:
SUMMARY:“Shame and Necessity”
DESCRIPTION:Stephen Greenblatt and Jonathan Lear will discuss "Shame and
  Necessity." No tickets or reservations are required. Seatin
 g which is first come first served is limited\, and we recomm
 end arriving early. We will open the doors a half hour befor
 e the event begins. For a map showing the Schapiro Center\, s
 ee http://www.columbia.edu/about_columbia/map/schapiro_cente
 r.html
END:VEVENT
END:VCALENDAR