BEGIN:VCALENDAR
VERSION:2.0
PRODID:-//ExpressionEngine Easy iCalendar plugin//NONSGML v1.1.1//EN
BEGIN:VEVENT
UID:event
LOCATION:Roone Arledge Cinema\, Lerner Hall
DTSTAMP:20210221T35100Z
DTSTART;TZID=America/New_York:20051109T181500
DTEND;TZID=America/New_York:
SUMMARY:“An End to Poverty?”
DESCRIPTION:Some of the greatest economists and social theorists in the 
 world will discuss one of the most pressing questions in the
  world: Can we and how can we end world poverty? Jeffrey Sac
 hs\, Amartya Sen\, Gareth Stedman Jones\, Emma Rothschild\, Eric
  Foner\, and Joseph Stiglitz will speak. No tickets or reserv
 ations necessary. Seating\, which is first come first served\,
  is limited. Doors will open at 5:30pm. In the event that th
 e auditorium is filled\, this event will be simulcast in Alts
 chul Auditorium on the 4th floor of The International Affair
 s Building.
END:VEVENT
END:VCALENDAR