BEGIN:VCALENDAR
VERSION:2.0
PRODID:-//ExpressionEngine Easy iCalendar plugin//NONSGML v1.1.1//EN
BEGIN:VEVENT
UID:event
LOCATION:International Affairs Building\, Altschul Auditorium
DTSTAMP:20210221T35000Z
DTSTART;TZID=America/New_York:20051110T180000
DTEND;TZID=America/New_York:
SUMMARY:Wall and Wittgenstein: Photography and the Everyday
DESCRIPTION:Michael Fried\, J.R. Herbert Boone Professor of Humanities at
  The Johns Hopkins University\, and well known art historian 
 will discuss the work of photographer Jeff Wall. Diarmuid Co
 stello\, Senior Lecturer in the Theory of Art at Oxford Brook
 es University\, and Gregg M. Horowitz\, Associate Professor of
  Philosophy at Vanderbilt University will serve as discussan
 ts.
END:VEVENT
END:VCALENDAR