BEGIN:VCALENDAR
VERSION:2.0
PRODID:-//ExpressionEngine Easy iCalendar plugin//NONSGML v1.1.1//EN
BEGIN:VEVENT
UID:event
LOCATION:International Affairs Building\, Altschul Auditorium
DTSTAMP:20210221T35100Z
DTSTART;TZID=America/New_York:20051121T200000
DTEND;TZID=America/New_York:
SUMMARY:Jonathan Miller
DESCRIPTION:The theater and opera director\, physician\, and writer Jonath
 an Miller is one of the most diverse and creative sensibilit
 ies in the performing arts today. And that is because he is 
 a deep and original thinker. He has written on subjects rang
 ing from mind and body to atheism and disbelief\, he has dire
 cted stage performances ranging from Shakespeare to Mozart\, 
 and he was a central presence in Beyond the Fringe. He will 
 speak on all these themes when Colin McGinn\, the philosopher
 \, interviews him in front of a live audience at Columbia.
END:VEVENT
END:VCALENDAR