BEGIN:VCALENDAR
VERSION:2.0
PRODID:-//ExpressionEngine Easy iCalendar plugin//NONSGML v1.1.1//EN
BEGIN:VEVENT
UID:event
LOCATION:The Heyman Center\, Common Room
DTSTAMP:20210221T35300Z
DTSTART;TZID=America/New_York:20070209T103000
DTEND;TZID=America/New_York:20070209T163000
SUMMARY:The Controversy About Women in Science: A Sober Look
DESCRIPTION:Elizabeth S. Spelke\, Professor of Psychology\, Harvard Univer
 sity and Virginia Valian\, Professor of Psychology\, Hunter Co
 llege
END:VEVENT
END:VCALENDAR