BEGIN:VCALENDAR
VERSION:2.0
PRODID:-//ExpressionEngine Easy iCalendar plugin//NONSGML v1.1.1//EN
BEGIN:VEVENT
UID:event
LOCATION:The Heyman Center\, Common Room
DTSTAMP:20210221T35300Z
DTSTART;TZID=America/New_York:20070210T90000
DTEND;TZID=America/New_York:20070211T000000
SUMMARY:The Concept of Character
DESCRIPTION:A Two-day Conference on the Concept of Character
END:VEVENT
END:VCALENDAR