BEGIN:VCALENDAR
VERSION:2.0
PRODID:-//ExpressionEngine Easy iCalendar plugin//NONSGML v1.1.1//EN
BEGIN:VEVENT
UID:event
LOCATION:The Heyman Center\, Second Floor Common Room
DTSTAMP:20210221T33100Z
DTSTART;TZID=America/New_York:20130524T90000
DTEND;TZID=America/New_York:20130525T000000
SUMMARY:Cultivating the Economy: Literature\, Politics\, Economics\, 18
 70-1940
DESCRIPTION:The decades between 1870 and 1940 saw the emergence of energ
 etic debates about the relationship between citizens\, the ec
 onomy and the state. This conference brings together literar
 y scholars\, economic historians and sociologists who explore
  the literary\, political and economic developments that stim
 ulated heated debates about the crisis of laissez-faire capi
 talism\, market regulation\, the common good and the rise of t
 he welfare state.
END:VEVENT
END:VCALENDAR