BEGIN:VCALENDAR
VERSION:2.0
PRODID:-//ExpressionEngine Easy iCalendar plugin//NONSGML v1.1.1//EN
BEGIN:VEVENT
UID:event
LOCATION:The Schapiro Center\, Davis Auditorium
DTSTAMP:20210221T34900Z
DTSTART;TZID=America/New_York:20070417T181500
DTEND;TZID=America/New_York:
SUMMARY:David Bromwich\, “Moral Imagination”
DESCRIPTION:HE 2006-2007 SAID MEMORIAL LECTURE\n\n	"Moral Imagination"\n\n	T
 uesday\, 17 April 6:15pm\n\n	David Bromwich\, Sterling Professor
  of English at Yale University\, is a renowned authority on R
 omantic and modern poetry\, and on the history of literary cr
 iticism. His publications include Hazlitt: The Mind of a Cri
 tic\, about metaphysician\, painter\, critic and essayist Willi
 am Hazlitt\, 1778-1830\, which was a National Book Critics Cir
 cle finalist in 1984\; Disowned by Memory: Wordsworth's Poetr
 y of the 1790s\; and A Choice of Inheritance: Self and Commun
 ity from Edmund Burke to Robert Frost.
END:VEVENT
END:VCALENDAR